BEGIN:VCALENDAR
VERSION:2.0
PRODID:-//eventon.com NONSGML v1.0//EN
CALSCALE:GREGORIAN
METHOD:PUBLISH
BEGIN:VEVENT
UID:69e73a019dc0a
DTSTAMP:20260421T084905Z
DTSTART:20201225T030000Z
DTEND:20201225T040000Z
LOCATION:
SUMMARY:Juleaften gudstjeneste i Gol kyrkje
DESCRIPTION:Juleaften gudstjeneste i Gol kyrkje\nhttps://www.golinfo.no/eve
 nts/juleaften-gudstjeneste-i-gol-kyrkje/
URL:https://www.golinfo.no/events/juleaften-gudstjeneste-i-gol-kyrkje/
END:VEVENT
END:VCALENDAR