BEGIN:VCALENDAR
VERSION:2.0
PRODID:-//eventon.com NONSGML v1.0//EN
CALSCALE:GREGORIAN
METHOD:PUBLISH
BEGIN:VEVENT
UID:69e73080eb3ed
DTSTAMP:20260421T080832Z
DTSTART:20230706T190000Z
DTEND:20230708T190000Z
LOCATION:
SUMMARY:Tour te Fjells 2023
DESCRIPTION:TOUR TE FJELLS 2023 Tour de Hallingdal hadde sin spede start i 
 2004\,  da en kameratgjeng\,  inspirert av Tour de France\,  ønsket å lag
 e sitt eget ritt i Hallingdal. Med årene har deltakerantallet økt betrakt
 elig. Fra 2007 fikk rittet den formen det har i dag. Mange gode ryttere har
  gjestet[..]\nhttps://www.golinfo.no/events/tour-te-fjells-2023/
URL:https://www.golinfo.no/events/tour-te-fjells-2023/
END:VEVENT
END:VCALENDAR