BEGIN:VCALENDAR
VERSION:2.0
PRODID:-//eventon.com NONSGML v1.0//EN
CALSCALE:GREGORIAN
METHOD:PUBLISH
BEGIN:VEVENT
UID:69e5e24647c61
DTSTAMP:20260420T082230Z
DTSTART:20230922T220000Z
DTEND:20230923T000000Z
LOCATION:
SUMMARY:Omvisning Nortura og Norilia
DESCRIPTION:Velkommen til omvisning på Nortura sitt Slakteanlegg på Gol. 
 Gol har Norges største ullstasjon &#8211; Norilia. Omvisningen er fredag 2
 2.09.23 kl.11.00 -13:00 under Fårefestivalen. Oppmøte ved Nortura slaktea
 nlegg. Omvisningen er gratis og krever påmelding. Meld deg på her. Sted: 
 Nortura Gol Oppmøte: Gamlevegen 20\,  Gol Tid: 11:00 -13:00 Litt om[..]\nh
 ttps://www.golinfo.no/events/omvisning-nortura-og-norilia/
URL:https://www.golinfo.no/events/omvisning-nortura-og-norilia/
END:VEVENT
END:VCALENDAR