BEGIN:VCALENDAR
VERSION:2.0
PRODID:-//eventon.com NONSGML v1.0//EN
CALSCALE:GREGORIAN
METHOD:PUBLISH
BEGIN:VEVENT
UID:69e9e383c62fa
DTSTAMP:20260423T091651Z
DTSTART:20260509T070000Z
DTEND:20260509T130000Z
LOCATION:Strai Kjøkken Hallingdal Sentrumsvegen 132
SUMMARY:Strai Kjøkken Hallingdal: Åpningsfest
DESCRIPTION:Velkommen til åpningsfest hos Strai Kjøkken Hallingdal! Strai
  Kjøkken Hallingdal har flyttet inn i nye lokaler i Sentrumsvegen 132\,  o
 g inviterer til åpningsfest. Alle som deltar er med i trekningen av et gav
 ekort på 50.000\,  det blir gode tilbud\,  de 50 første gjestene får goo
 diebag. Det blir også servering av[..]\nhttps://www.golinfo.no/events/stra
 i-kjokken-hallingdal-apningsfest/
URL:https://www.golinfo.no/events/strai-kjokken-hallingdal-apningsfest/
END:VEVENT
END:VCALENDAR