BEGIN:VCALENDAR
VERSION:2.0
PRODID:-//eventon.com NONSGML v1.0//EN
CALSCALE:GREGORIAN
METHOD:PUBLISH
BEGIN:VEVENT
UID:69e7316f6a54f
DTSTAMP:20260421T081231Z
DTSTART:20151114T210000Z
DTEND:20151115T010000Z
LOCATION:Storefjell Storefjell\,  3550 Gol\,  Norge
SUMMARY:Ingemars
DESCRIPTION:Fra Finnskogen kommer det populære og velkjente dansebandet In
 gemars. Det rotekte countrydansebandet gir såpass av seg selv at du formel
 ig kjenner lukta av skogen\,  sprakende bål og den sotsvarte kaffikjelen.\
 nhttps://www.golinfo.no/events/ingemars/
URL:https://www.golinfo.no/events/ingemars/
END:VEVENT
END:VCALENDAR