BEGIN:VCALENDAR
VERSION:2.0
PRODID:-//eventon.com NONSGML v1.0//EN
CALSCALE:GREGORIAN
METHOD:PUBLISH
BEGIN:VEVENT
UID:69e738c0401f5
DTSTAMP:20260421T084344Z
DTSTART:20160910T200000Z
DTEND:20160911T000000Z
LOCATION:Storefjell Storefjell\,  3550 Gol\,  Norge
SUMMARY:Lasse Stefanz
DESCRIPTION:Lasse Stefanz\nhttps://www.golinfo.no/events/lasse-stefanz-pa-s
 torefjell/
URL:https://www.golinfo.no/events/lasse-stefanz-pa-storefjell/
END:VEVENT
END:VCALENDAR